BEGIN:VCALENDAR
VERSION:2.0
PRODID:-//Columbus Bilingual Academy North - ECPv5.16.4//NONSGML v1.0//EN
CALSCALE:GREGORIAN
METHOD:PUBLISH
X-WR-CALNAME:Columbus Bilingual Academy North
X-ORIGINAL-URL:https://cbaschool.org
X-WR-CALDESC:Events for Columbus Bilingual Academy North
BEGIN:VTIMEZONE
TZID:America/New_York
BEGIN:DAYLIGHT
TZOFFSETFROM:-0500
TZOFFSETTO:-0400
TZNAME:EDT
DTSTART:20210314T070000
END:DAYLIGHT
BEGIN:STANDARD
TZOFFSETFROM:-0400
TZOFFSETTO:-0500
TZNAME:EST
DTSTART:20211107T060000
END:STANDARD
END:VTIMEZONE
BEGIN:VEVENT
DTSTART;TZID=America/New_York:20210406T100000
DTEND;TZID=America/New_York:20210406T104500
DTSTAMP:20260423T141922
CREATED:20210316T155005Z
LAST-MODIFIED:20210316T155005Z
UID:4643-1617703200-1617705900@cbaschool.org
SUMMARY:ACCEL Schools Celebra La Lectura!
DESCRIPTION:¡Celebre la lectura con las escuelas ACCEL! Los niños de 3 a 5 años y sus padres / cuidadores están invitados a este evento virtual que incluirá:\nLeer en voz alta “Lola planta un jardín”\n¡Proyectos temáticos de manualidades y jardinería con materiales gratuitos!\nLos que se registren recibirán una bolsa GRATIS llena de materiales. La bolsa estará disponible para recoger en la escuela después del 30 de marzo. Los materiales incluyen: suministros de jardinería y manualidades GRATIS y otros artículos para ayudar a las familias a prepararse para Kindergarten. \n¡REGÍSTRESE EN LÍNEA HOY PARA RESERVAR TU BOLSA GRATUITA DE MATERIALES PARA EL EVENTO!\nhttps://cbaschool.org/virtual-event/
URL:https://cbaschool.org/event/accel-schools-celebra-la-lectura/
LOCATION:Virtual
CATEGORIES:Calendar Only,Prospective Families, Events, Home
END:VEVENT
END:VCALENDAR