BEGIN:VCALENDAR
VERSION:2.0
PRODID:-//Columbus Bilingual Academy North - ECPv5.16.4//NONSGML v1.0//EN
CALSCALE:GREGORIAN
METHOD:PUBLISH
X-WR-CALNAME:Columbus Bilingual Academy North
X-ORIGINAL-URL:https://cbaschool.org
X-WR-CALDESC:Events for Columbus Bilingual Academy North
BEGIN:VTIMEZONE
TZID:America/New_York
BEGIN:DAYLIGHT
TZOFFSETFROM:-0500
TZOFFSETTO:-0400
TZNAME:EDT
DTSTART:20240310T070000
END:DAYLIGHT
BEGIN:STANDARD
TZOFFSETFROM:-0400
TZOFFSETTO:-0500
TZNAME:EST
DTSTART:20241103T060000
END:STANDARD
END:VTIMEZONE
BEGIN:VEVENT
DTSTART;TZID=America/New_York:20240815T160000
DTEND;TZID=America/New_York:20240815T180000
DTSTAMP:20260423T010243
CREATED:20240531T171521Z
LAST-MODIFIED:20240604T154404Z
UID:8486-1723737600-1723744800@cbaschool.org
SUMMARY:Fiesta de Regreso a Clases - Back to School Bash
DESCRIPTION:The school year is about to begin & it’s not too late to enroll! Join us to celebrate the back to school season and prepare for the year ahead. Come to our BTS Bash to enjoy games\, Whit’s Frozen Custard\, face painting and meet our teachers. Start or finalize your enrollment paperwork with the help of our team. \n¡El año escolar está por comenzar y no es demasiado tarde para inscribirse! Únase a nosotros para celebrar la temporada de regreso a la escuela y prepararse para el próximo año. Comience o finalice sus trámites de inscripción con la ayuda de nuestro equipo. \ncbaschool.org/events
URL:https://cbaschool.org/event/back-school-bash-3/
LOCATION:Columbus Bilingual Academy North\, 2100 Morse Road\, Suite 4609\, Columbus\, Ohio\, 43229
CATEGORIES:Calendar Only,Prospective Families, Events, Home
GEO:40.0617349;-82.9639913
X-APPLE-STRUCTURED-LOCATION;VALUE=URI;X-ADDRESS=Columbus Bilingual Academy North 2100 Morse Road Suite 4609 Columbus Ohio 43229;X-APPLE-RADIUS=500;X-TITLE=2100 Morse Road\, Suite 4609:geo:-82.9639913,40.0617349
END:VEVENT
END:VCALENDAR