BEGIN:VCALENDAR
VERSION:2.0
PRODID:-//Columbus Bilingual Academy North - ECPv5.16.4//NONSGML v1.0//EN
CALSCALE:GREGORIAN
METHOD:PUBLISH
X-WR-CALNAME:Columbus Bilingual Academy North
X-ORIGINAL-URL:https://cbaschool.org
X-WR-CALDESC:Events for Columbus Bilingual Academy North
BEGIN:VTIMEZONE
TZID:America/New_York
BEGIN:DAYLIGHT
TZOFFSETFROM:-0500
TZOFFSETTO:-0400
TZNAME:EDT
DTSTART:20220313T070000
END:DAYLIGHT
BEGIN:STANDARD
TZOFFSETFROM:-0400
TZOFFSETTO:-0500
TZNAME:EST
DTSTART:20221106T060000
END:STANDARD
END:VTIMEZONE
BEGIN:VEVENT
DTSTART;TZID=America/New_York:20221116T181500
DTEND;TZID=America/New_York:20221116T181500
DTSTAMP:20260424T084353
CREATED:20221102T163943Z
LAST-MODIFIED:20221102T163943Z
UID:6477-1668622500-1668622500@cbaschool.org
SUMMARY:Board Meeting
DESCRIPTION:LEGAL NOTICE\nPUBLIC NOTICE \nNotice is hereby given that on November 16\, 2022\, a meeting of the Board of Directors of Columbus Bilingual Academy North will be held at 6:15 PM. The Board meeting will be held at CBAN\, 2100 Morse Rd.\, Suite 4609\, Columbus\, Ohio 43229. \nThe purpose of this meeting is to consider various administrative matters and to address any other general business that may properly come before the Board of Directors. \n  \nAVISO LEGAL\nAVISO PÚBLICO \nPor la presente se notifica que el 16 de noviembre de 2022\, se llevará a cabo una reunión de la Junta Directiva de Columbus Bilingual Academy North a las 6:15 PM. La reunión de la Junta se llevará a cabo en CBAN\, 2100 Morse Rd.\, Suite 4609\, Columbus\, Ohio 43229. \nEl propósito de esta reunión es considerar varios asuntos administrativos y abordar cualquier otro asunto general que pueda presentarse adecuadamente ante la Junta Directiva. \n  \n 
URL:https://cbaschool.org/event/board-meeting-13/
LOCATION:Columbus Bilingual Academy North\, 2100 Morse Road\, Suite 4609\, Columbus\, Ohio\, 43229
CATEGORIES:Calendar Only,School Board
GEO:40.0617349;-82.9639913
X-APPLE-STRUCTURED-LOCATION;VALUE=URI;X-ADDRESS=Columbus Bilingual Academy North 2100 Morse Road Suite 4609 Columbus Ohio 43229;X-APPLE-RADIUS=500;X-TITLE=2100 Morse Road\, Suite 4609:geo:-82.9639913,40.0617349
END:VEVENT
END:VCALENDAR