BEGIN:VCALENDAR
VERSION:2.0
PRODID:-//Columbus Bilingual Academy North - ECPv5.16.4//NONSGML v1.0//EN
CALSCALE:GREGORIAN
METHOD:PUBLISH
X-WR-CALNAME:Columbus Bilingual Academy North
X-ORIGINAL-URL:https://cbaschool.org
X-WR-CALDESC:Events for Columbus Bilingual Academy North
BEGIN:VTIMEZONE
TZID:America/New_York
BEGIN:DAYLIGHT
TZOFFSETFROM:-0500
TZOFFSETTO:-0400
TZNAME:EDT
DTSTART:20230312T070000
END:DAYLIGHT
BEGIN:STANDARD
TZOFFSETFROM:-0400
TZOFFSETTO:-0500
TZNAME:EST
DTSTART:20231105T060000
END:STANDARD
END:VTIMEZONE
BEGIN:VEVENT
DTSTART;TZID=America/New_York:20230521T130000
DTEND;TZID=America/New_York:20230521T160000
DTSTAMP:20260424T014021
CREATED:20230512T133239Z
LAST-MODIFIED:20230512T133239Z
UID:7094-1684674000-1684684800@cbaschool.org
SUMMARY:Feria Comunitaria Y Cultural - Community & Culture Fair
DESCRIPTION:No se pierda la Feria de Cultural y Comunitaria GRATUITA organizada por Columbus Bilingual Academy. ¡Tendremos visitas guiadas\, espectáculos culturales\, juegos y actividades y comida de todas partes de América Latina!\n\nReserva tu espacio hoy: cbaschool.org/events\n\nDon’t miss this FREE Community & Culture Fair hosted at Columbus Bilingual Academy. We will have school tours\, cultural performances\, games & activities and food from all over Latin America!\n\nRSVP Today: cbaschool.org/events
URL:https://cbaschool.org/event/feria-comunitaria-y-cultural-community-culture-fair/
LOCATION:Columbus Bilingual Academy North\, 2100 Morse Road\, Suite 4609\, Columbus\, Ohio\, 43229
CATEGORIES:Calendar Only,Prospective Families, Events, Home
GEO:40.0617349;-82.9639913
X-APPLE-STRUCTURED-LOCATION;VALUE=URI;X-ADDRESS=Columbus Bilingual Academy North 2100 Morse Road Suite 4609 Columbus Ohio 43229;X-APPLE-RADIUS=500;X-TITLE=2100 Morse Road\, Suite 4609:geo:-82.9639913,40.0617349
END:VEVENT
END:VCALENDAR