BEGIN:VCALENDAR
VERSION:2.0
PRODID:-//Columbus Bilingual Academy North - ECPv5.16.4//NONSGML v1.0//EN
CALSCALE:GREGORIAN
METHOD:PUBLISH
X-WR-CALNAME:Columbus Bilingual Academy North
X-ORIGINAL-URL:https://cbaschool.org
X-WR-CALDESC:Events for Columbus Bilingual Academy North
BEGIN:VTIMEZONE
TZID:America/New_York
BEGIN:DAYLIGHT
TZOFFSETFROM:-0500
TZOFFSETTO:-0400
TZNAME:EDT
DTSTART:20220313T070000
END:DAYLIGHT
BEGIN:STANDARD
TZOFFSETFROM:-0400
TZOFFSETTO:-0500
TZNAME:EST
DTSTART:20221106T060000
END:STANDARD
END:VTIMEZONE
BEGIN:VEVENT
DTSTART;TZID=America/New_York:20220628T170000
DTEND;TZID=America/New_York:20220628T190000
DTSTAMP:20260424T013832
CREATED:20220614T013740Z
LAST-MODIFIED:20220614T013740Z
UID:6017-1656435600-1656442800@cbaschool.org
SUMMARY:K-8 Open House
DESCRIPTION:A new school year will be here in a few short weeks! Don’t miss out on all that our tuition-free charter school has to offer. Join us for Open House where you can enjoy FREE food and ice cream\, meet our Principal and teachers\, and get help signing up for Fall 2022. We can’t wait to welcome you to Columbus Bilingual Academy! \nRSVP Now: cbaschool.org/events \nReady to enroll? Be prepared with the following documents:  \n\nChild’s Birth Certificate \nProof of Residence \nParent ID (for primary\, custodial parent) \nImmunization Records \n\nFor more information about these documents\, please visit our Enrollment Resources page at: https://accelschools.com/enrollment-resources-ohio/
URL:https://cbaschool.org/event/k-8-open-house/
LOCATION:Columbus Bilingual Academy North\, 2100 Morse Road\, Suite 4609\, Columbus\, Ohio\, 43229
CATEGORIES:Calendar Only,Prospective Families, Events, Home
GEO:40.0617349;-82.9639913
X-APPLE-STRUCTURED-LOCATION;VALUE=URI;X-ADDRESS=Columbus Bilingual Academy North 2100 Morse Road Suite 4609 Columbus Ohio 43229;X-APPLE-RADIUS=500;X-TITLE=2100 Morse Road\, Suite 4609:geo:-82.9639913,40.0617349
END:VEVENT
END:VCALENDAR