BEGIN:VCALENDAR
VERSION:2.0
PRODID:-//Columbus Bilingual Academy North - ECPv5.16.4//NONSGML v1.0//EN
CALSCALE:GREGORIAN
METHOD:PUBLISH
X-WR-CALNAME:Columbus Bilingual Academy North
X-ORIGINAL-URL:https://cbaschool.org
X-WR-CALDESC:Events for Columbus Bilingual Academy North
BEGIN:VTIMEZONE
TZID:America/New_York
BEGIN:DAYLIGHT
TZOFFSETFROM:-0500
TZOFFSETTO:-0400
TZNAME:EDT
DTSTART:20220313T070000
END:DAYLIGHT
BEGIN:STANDARD
TZOFFSETFROM:-0400
TZOFFSETTO:-0500
TZNAME:EST
DTSTART:20221106T060000
END:STANDARD
END:VTIMEZONE
BEGIN:VEVENT
DTSTART;TZID=America/New_York:20220512T160000
DTEND;TZID=America/New_York:20220512T173000
DTSTAMP:20260423T155503
CREATED:20220418T202616Z
LAST-MODIFIED:20220418T202616Z
UID:5871-1652371200-1652376600@cbaschool.org
SUMMARY:Kindergarten Registration Night
DESCRIPTION:It’s time to register for Kindergarten! Join us for Kindergarten Registration Night where you can meet our principal and teachers\, tour the campus\, and find out more about our tuition-free\, public charter school. Enjoy light refreshments and let us assist you with the registration process. \nRSVP today! \nReady to enroll? Be prepared with the following documents:  \n\nChild’s Birth Certificate \nProof of Residence \nParent ID (for primary\, custodial parent) \nImmunization Records \n\nFor more information about these documents\, please visit our Enrollment Resources page at: https://accelschools.com/enrollment-resources-ohio/
URL:https://cbaschool.org/event/kindergarten-registration-night-2/
LOCATION:Columbus Bilingual Academy North\, 2100 Morse Road\, Suite 4609\, Columbus\, Ohio\, 43229
CATEGORIES:Calendar Only,Prospective Families, Events, Home
GEO:40.0617349;-82.9639913
X-APPLE-STRUCTURED-LOCATION;VALUE=URI;X-ADDRESS=Columbus Bilingual Academy North 2100 Morse Road Suite 4609 Columbus Ohio 43229;X-APPLE-RADIUS=500;X-TITLE=2100 Morse Road\, Suite 4609:geo:-82.9639913,40.0617349
END:VEVENT
END:VCALENDAR