BEGIN:VCALENDAR
VERSION:2.0
PRODID:-//Columbus Bilingual Academy North - ECPv5.16.4//NONSGML v1.0//EN
CALSCALE:GREGORIAN
METHOD:PUBLISH
X-WR-CALNAME:Columbus Bilingual Academy North
X-ORIGINAL-URL:https://cbaschool.org
X-WR-CALDESC:Events for Columbus Bilingual Academy North
BEGIN:VTIMEZONE
TZID:America/New_York
BEGIN:DAYLIGHT
TZOFFSETFROM:-0500
TZOFFSETTO:-0400
TZNAME:EDT
DTSTART:20240310T070000
END:DAYLIGHT
BEGIN:STANDARD
TZOFFSETFROM:-0400
TZOFFSETTO:-0500
TZNAME:EST
DTSTART:20241103T060000
END:STANDARD
END:VTIMEZONE
BEGIN:VEVENT
DTSTART;TZID=America/New_York:20240321T160000
DTEND;TZID=America/New_York:20240321T173000
DTSTAMP:20260423T092353
CREATED:20240220T151759Z
LAST-MODIFIED:20240226T192809Z
UID:8105-1711036800-1711042200@cbaschool.org
SUMMARY:Noche de inscripción para Kindergarten (Kindergarten Registration Night)
DESCRIPTION:¡Es hora de inscribirse para Kinder Temprano y Kindergarten! Acompáñenos a aprender más sobre nuestra cultura escolar\,académica\, programas extracurriculares y servicios escolares. Conozca al director\, recorrido por el campus\, conozca a los maestros de Kindergarten\, y vistazo previo al proceso de inscripción.  \nConfirme su asistencia hoy: cbaschool.org/events \nIt’s time to register for Early K and Kindergarten! Join us to learn more about our school culture\, academics\, extracurricular programs\, and school services. Tour our campus\, meet our staff\, and preview our easy registration process!  \nRSVP Today: cbaschool.org/events
URL:https://cbaschool.org/event/kindergarten-registration-night-3/
LOCATION:Columbus Bilingual Academy North\, 2100 Morse Road\, Suite 4609\, Columbus\, Ohio\, 43229
CATEGORIES:Calendar Only,Prospective Families, Events, Home
GEO:40.0617349;-82.9639913
X-APPLE-STRUCTURED-LOCATION;VALUE=URI;X-ADDRESS=Columbus Bilingual Academy North 2100 Morse Road Suite 4609 Columbus Ohio 43229;X-APPLE-RADIUS=500;X-TITLE=2100 Morse Road\, Suite 4609:geo:-82.9639913,40.0617349
END:VEVENT
END:VCALENDAR