BEGIN:VCALENDAR
VERSION:2.0
PRODID:-//Columbus Bilingual Academy North - ECPv5.16.4//NONSGML v1.0//EN
CALSCALE:GREGORIAN
METHOD:PUBLISH
X-WR-CALNAME:Columbus Bilingual Academy North
X-ORIGINAL-URL:https://cbaschool.org
X-WR-CALDESC:Events for Columbus Bilingual Academy North
BEGIN:VTIMEZONE
TZID:America/New_York
BEGIN:DAYLIGHT
TZOFFSETFROM:-0500
TZOFFSETTO:-0400
TZNAME:EDT
DTSTART:20230312T070000
END:DAYLIGHT
BEGIN:STANDARD
TZOFFSETFROM:-0400
TZOFFSETTO:-0500
TZNAME:EST
DTSTART:20231105T060000
END:STANDARD
END:VTIMEZONE
BEGIN:VEVENT
DTSTART;TZID=America/New_York:20230330T160000
DTEND;TZID=America/New_York:20230330T173000
DTSTAMP:20260423T204021
CREATED:20230322T124816Z
LAST-MODIFIED:20230322T124816Z
UID:6903-1680192000-1680197400@cbaschool.org
SUMMARY:Noche de Inscripción de Kindergarten | Kindergarten Registration Night
DESCRIPTION:¡Es hora de registrarse para Kinder temprano y Kindergarten! Acompáñenos para aprender más sobre nuestra cultura escolar\, programas académicos\, actividades extracurriculares y servicios escolares. ¡Recorre nuestro campus\, conoce a nuestro personal y obtén una vista previa de nuestro sencillo proceso de registración! \nReserva tu espacio hoy: cbaschool.org/events  \n________________________________________________________________________________________________ \nIt’s time to register for Early K and Kindergarten! Join us to learn more about our school culture\, academics\, extracurricular programs\, and school services. Tour our campus\, meet our staff\, and preview our easy registration process! \nRSVP Today: cbaschool.org/events
URL:https://cbaschool.org/event/noche-de-inscripcion-de-kindergarten-kindergarten-registration-night/
LOCATION:Columbus Bilingual Academy North\, 2100 Morse Road\, Suite 4609\, Columbus\, Ohio\, 43229
CATEGORIES:Calendar Only,Prospective Families, Events, Home
GEO:40.0617349;-82.9639913
X-APPLE-STRUCTURED-LOCATION;VALUE=URI;X-ADDRESS=Columbus Bilingual Academy North 2100 Morse Road Suite 4609 Columbus Ohio 43229;X-APPLE-RADIUS=500;X-TITLE=2100 Morse Road\, Suite 4609:geo:-82.9639913,40.0617349
END:VEVENT
END:VCALENDAR